BEGIN:VCALENDAR
VERSION:2.0
PRODID:-//AFLabs urnik izvoz - fa//aflabs.si//SI
NAME:UL FA urnik
X-WR-CALNAME:UL FA urnik
DTSTAMP:20260421T072121Z
REFRESH-INTERVAL:PT1H
SOURCE:https://urnik.fa.uni-lj.si/en/teacher/250/?day=2025-06-16&export=1
URL:https://urnik.fa.uni-lj.si/en/teacher/250/?day=2025-06-16&export=1
X-PUBLISHED-TTL:PT1H
X-WR-TIMEZONE:Europe/Ljubljana
BEGIN:VTIMEZONE
TZID:Europe/Ljubljana
BEGIN:DAYLIGHT
DTSTART:20260329T020000
RDATE:20260329T020000
RDATE:20270328T020000
TZNAME:CEST
TZOFFSETFROM:+0100
TZOFFSETTO:+0200
END:DAYLIGHT
BEGIN:STANDARD
DTSTART:20261025T030000
RDATE:20261025T030000
RDATE:20271031T030000
TZNAME:CET
TZOFFSETFROM:+0200
TZOFFSETTO:+0100
END:STANDARD
END:VTIMEZONE
BEGIN:VEVENT
SUMMARY:Design Studio 3 (DS3)\, Vaje (V)
DTSTART;TZID=Europe/Ljubljana:20250513T080000
DTEND;TZID=Europe/Ljubljana:20250513T160000
DTSTAMP:20260421T072121Z
UID:fa-AFLABS-URNIK:srecanje:2907-2025-05-13 08:00:00+02:00
DESCRIPTION:Predmet: Design Studio 3 (DS3)\, Vaje (V)\nLetniki: EMŠA - 3.
  letnik (EMŠA)\nIzvajalci: Paulo A. Barbaresi\, Leon Belušič\, Matej Bl
 enkuš\, Katarina Čakš\, Petra Čeferin\, Ilka Čerpes\, Leon Debevec\, 
 Vid de Gleria\, Mihael Dešman\, Alenka Fikfak\, Polona Filipič Gorenšek
 \, Tadej Glažar\, Mojca Gregorski\, Jure Henigsman\, Primož Hočevar\, 
 Špela Hudnik\, Sonja Ifko\, Ana Kosi\, Ana Kreč\, Tomaž Krušec\, Ljubo
  Lah\, Jurij Ličen\, Vlatka Ljubanović\, Andrej Mahovič\, Gašper Medve
 šek\, Miha Munda\, Tomaž Novljan\, Vasa J. Perović\, Anja Planišček\,
  Alessio Princic\, Paul O. Robinson\, Uroš Rustja\, Jurij Sadar\, Tomaž 
 Slak\, Tadej Urh\, Anja Vidic\, Matevž Zalar\, Martina Zbašnik-Senegačn
 ik\, Primož Žitnik\, Rok Žnidaršič\, Mitja Zorc\, Maruša Zorec\, Dom
 en Zupančič\, Tadeja Zupančič\nProstor: Seminarji
END:VEVENT
BEGIN:VEVENT
SUMMARY:Design Studio 3 (DS3)\, Vaje (V)
DTSTART;TZID=Europe/Ljubljana:20250520T080000
DTEND;TZID=Europe/Ljubljana:20250520T160000
DTSTAMP:20260421T072121Z
UID:fa-AFLABS-URNIK:srecanje:2907-2025-05-20 08:00:00+02:00
DESCRIPTION:Predmet: Design Studio 3 (DS3)\, Vaje (V)\nLetniki: EMŠA - 3.
  letnik (EMŠA)\nIzvajalci: Paulo A. Barbaresi\, Leon Belušič\, Matej Bl
 enkuš\, Katarina Čakš\, Petra Čeferin\, Ilka Čerpes\, Leon Debevec\, 
 Vid de Gleria\, Mihael Dešman\, Alenka Fikfak\, Polona Filipič Gorenšek
 \, Tadej Glažar\, Mojca Gregorski\, Jure Henigsman\, Primož Hočevar\, 
 Špela Hudnik\, Sonja Ifko\, Ana Kosi\, Ana Kreč\, Tomaž Krušec\, Ljubo
  Lah\, Jurij Ličen\, Vlatka Ljubanović\, Andrej Mahovič\, Gašper Medve
 šek\, Miha Munda\, Tomaž Novljan\, Vasa J. Perović\, Anja Planišček\,
  Alessio Princic\, Paul O. Robinson\, Uroš Rustja\, Jurij Sadar\, Tomaž 
 Slak\, Tadej Urh\, Anja Vidic\, Matevž Zalar\, Martina Zbašnik-Senegačn
 ik\, Primož Žitnik\, Rok Žnidaršič\, Mitja Zorc\, Maruša Zorec\, Dom
 en Zupančič\, Tadeja Zupančič\nProstor: Seminarji
END:VEVENT
BEGIN:VEVENT
SUMMARY:Design Studio 1 (DS1)\, Vaje (V)
DTSTART;TZID=Europe/Ljubljana:20250513T080000
DTEND;TZID=Europe/Ljubljana:20250513T160000
DTSTAMP:20260421T072121Z
UID:fa-AFLABS-URNIK:srecanje:2903-2025-05-13 08:00:00+02:00
DESCRIPTION:Predmet: Design Studio 1 (DS1)\, Vaje (V)\nLetniki: EMŠA - 1.
  letnik (EMŠA)\nIzvajalci: Paulo A. Barbaresi\, Leon Belušič\, Matej Bl
 enkuš\, Katarina Čakš\, Petra Čeferin\, Ilka Čerpes\, Leon Debevec\, 
 Vid de Gleria\, Mihael Dešman\, Alenka Fikfak\, Polona Filipič Gorenšek
 \, Tadej Glažar\, Mojca Gregorski\, Jure Henigsman\, Primož Hočevar\, 
 Špela Hudnik\, Sonja Ifko\, Ana Kosi\, Ana Kreč\, Tomaž Krušec\, Ljubo
  Lah\, Jurij Ličen\, Vlatka Ljubanović\, Andrej Mahovič\, Gašper Medve
 šek\, Miha Munda\, Tomaž Novljan\, Vasa J. Perović\, Anja Planišček\,
  Alessio Princic\, Paul O. Robinson\, Uroš Rustja\, Jurij Sadar\, Tomaž 
 Slak\, Tadej Urh\, Anja Vidic\, Matevž Zalar\, Martina Zbašnik-Senegačn
 ik\, Primož Žitnik\, Rok Žnidaršič\, Mitja Zorc\, Maruša Zorec\, Dom
 en Zupančič\, Tadeja Zupančič\nProstor: Seminarji
END:VEVENT
BEGIN:VEVENT
SUMMARY:Design Studio 1 (DS1)\, Vaje (V)
DTSTART;TZID=Europe/Ljubljana:20250520T080000
DTEND;TZID=Europe/Ljubljana:20250520T160000
DTSTAMP:20260421T072121Z
UID:fa-AFLABS-URNIK:srecanje:2903-2025-05-20 08:00:00+02:00
DESCRIPTION:Predmet: Design Studio 1 (DS1)\, Vaje (V)\nLetniki: EMŠA - 1.
  letnik (EMŠA)\nIzvajalci: Paulo A. Barbaresi\, Leon Belušič\, Matej Bl
 enkuš\, Katarina Čakš\, Petra Čeferin\, Ilka Čerpes\, Leon Debevec\, 
 Vid de Gleria\, Mihael Dešman\, Alenka Fikfak\, Polona Filipič Gorenšek
 \, Tadej Glažar\, Mojca Gregorski\, Jure Henigsman\, Primož Hočevar\, 
 Špela Hudnik\, Sonja Ifko\, Ana Kosi\, Ana Kreč\, Tomaž Krušec\, Ljubo
  Lah\, Jurij Ličen\, Vlatka Ljubanović\, Andrej Mahovič\, Gašper Medve
 šek\, Miha Munda\, Tomaž Novljan\, Vasa J. Perović\, Anja Planišček\,
  Alessio Princic\, Paul O. Robinson\, Uroš Rustja\, Jurij Sadar\, Tomaž 
 Slak\, Tadej Urh\, Anja Vidic\, Matevž Zalar\, Martina Zbašnik-Senegačn
 ik\, Primož Žitnik\, Rok Žnidaršič\, Mitja Zorc\, Maruša Zorec\, Dom
 en Zupančič\, Tadeja Zupančič\nProstor: Seminarji
END:VEVENT
BEGIN:VEVENT
SUMMARY:Design Studio 2 (DS2)\, Vaje (V)
DTSTART;TZID=Europe/Ljubljana:20250513T080000
DTEND;TZID=Europe/Ljubljana:20250513T160000
DTSTAMP:20260421T072121Z
UID:fa-AFLABS-URNIK:srecanje:2905-2025-05-13 08:00:00+02:00
DESCRIPTION:Predmet: Design Studio 2 (DS2)\, Vaje (V)\nLetniki: EMŠA - 2.
  letnik (EMŠA)\nIzvajalci: Paulo A. Barbaresi\, Leon Belušič\, Matej Bl
 enkuš\, Katarina Čakš\, Petra Čeferin\, Ilka Čerpes\, Leon Debevec\, 
 Vid de Gleria\, Mihael Dešman\, Alenka Fikfak\, Polona Filipič Gorenšek
 \, Tadej Glažar\, Mojca Gregorski\, Jure Henigsman\, Primož Hočevar\, 
 Špela Hudnik\, Sonja Ifko\, Ana Kosi\, Ana Kreč\, Tomaž Krušec\, Ljubo
  Lah\, Jurij Ličen\, Vlatka Ljubanović\, Andrej Mahovič\, Gašper Medve
 šek\, Miha Munda\, Tomaž Novljan\, Vasa J. Perović\, Anja Planišček\,
  Alessio Princic\, Paul O. Robinson\, Uroš Rustja\, Jurij Sadar\, Tomaž 
 Slak\, Tadej Urh\, Anja Vidic\, Matevž Zalar\, Martina Zbašnik-Senegačn
 ik\, Primož Žitnik\, Rok Žnidaršič\, Mitja Zorc\, Maruša Zorec\, Dom
 en Zupančič\, Tadeja Zupančič\nProstor: Seminarji
END:VEVENT
BEGIN:VEVENT
SUMMARY:Design Studio 2 (DS2)\, Vaje (V)
DTSTART;TZID=Europe/Ljubljana:20250520T080000
DTEND;TZID=Europe/Ljubljana:20250520T160000
DTSTAMP:20260421T072121Z
UID:fa-AFLABS-URNIK:srecanje:2905-2025-05-20 08:00:00+02:00
DESCRIPTION:Predmet: Design Studio 2 (DS2)\, Vaje (V)\nLetniki: EMŠA - 2.
  letnik (EMŠA)\nIzvajalci: Paulo A. Barbaresi\, Leon Belušič\, Matej Bl
 enkuš\, Katarina Čakš\, Petra Čeferin\, Ilka Čerpes\, Leon Debevec\, 
 Vid de Gleria\, Mihael Dešman\, Alenka Fikfak\, Polona Filipič Gorenšek
 \, Tadej Glažar\, Mojca Gregorski\, Jure Henigsman\, Primož Hočevar\, 
 Špela Hudnik\, Sonja Ifko\, Ana Kosi\, Ana Kreč\, Tomaž Krušec\, Ljubo
  Lah\, Jurij Ličen\, Vlatka Ljubanović\, Andrej Mahovič\, Gašper Medve
 šek\, Miha Munda\, Tomaž Novljan\, Vasa J. Perović\, Anja Planišček\,
  Alessio Princic\, Paul O. Robinson\, Uroš Rustja\, Jurij Sadar\, Tomaž 
 Slak\, Tadej Urh\, Anja Vidic\, Matevž Zalar\, Martina Zbašnik-Senegačn
 ik\, Primož Žitnik\, Rok Žnidaršič\, Mitja Zorc\, Maruša Zorec\, Dom
 en Zupančič\, Tadeja Zupančič\nProstor: Seminarji
END:VEVENT
BEGIN:VEVENT
SUMMARY:Design Studio 4 (DS4)\, Vaje (V)
DTSTART;TZID=Europe/Ljubljana:20250513T080000
DTEND;TZID=Europe/Ljubljana:20250513T160000
DTSTAMP:20260421T072121Z
UID:fa-AFLABS-URNIK:srecanje:2909-2025-05-13 08:00:00+02:00
DESCRIPTION:Predmet: Design Studio 4 (DS4)\, Vaje (V)\nLetniki: EMŠA - 4.
  letnik (EMŠA)\nIzvajalci: Paulo A. Barbaresi\, Leon Belušič\, Matej Bl
 enkuš\, Katarina Čakš\, Petra Čeferin\, Ilka Čerpes\, Leon Debevec\, 
 Vid de Gleria\, Mihael Dešman\, Alenka Fikfak\, Polona Filipič Gorenšek
 \, Tadej Glažar\, Mojca Gregorski\, Jure Henigsman\, Primož Hočevar\, 
 Špela Hudnik\, Sonja Ifko\, Ana Kosi\, Ana Kreč\, Tomaž Krušec\, Ljubo
  Lah\, Jurij Ličen\, Vlatka Ljubanović\, Andrej Mahovič\, Gašper Medve
 šek\, Miha Munda\, Tomaž Novljan\, Vasa J. Perović\, Anja Planišček\,
  Alessio Princic\, Paul O. Robinson\, Uroš Rustja\, Jurij Sadar\, Tomaž 
 Slak\, Tadej Urh\, Anja Vidic\, Matevž Zalar\, Martina Zbašnik-Senegačn
 ik\, Primož Žitnik\, Rok Žnidaršič\, Mitja Zorc\, Maruša Zorec\, Dom
 en Zupančič\, Tadeja Zupančič\nProstor: Seminarji
END:VEVENT
BEGIN:VEVENT
SUMMARY:Design Studio 4 (DS4)\, Vaje (V)
DTSTART;TZID=Europe/Ljubljana:20250520T080000
DTEND;TZID=Europe/Ljubljana:20250520T160000
DTSTAMP:20260421T072121Z
UID:fa-AFLABS-URNIK:srecanje:2909-2025-05-20 08:00:00+02:00
DESCRIPTION:Predmet: Design Studio 4 (DS4)\, Vaje (V)\nLetniki: EMŠA - 4.
  letnik (EMŠA)\nIzvajalci: Paulo A. Barbaresi\, Leon Belušič\, Matej Bl
 enkuš\, Katarina Čakš\, Petra Čeferin\, Ilka Čerpes\, Leon Debevec\, 
 Vid de Gleria\, Mihael Dešman\, Alenka Fikfak\, Polona Filipič Gorenšek
 \, Tadej Glažar\, Mojca Gregorski\, Jure Henigsman\, Primož Hočevar\, 
 Špela Hudnik\, Sonja Ifko\, Ana Kosi\, Ana Kreč\, Tomaž Krušec\, Ljubo
  Lah\, Jurij Ličen\, Vlatka Ljubanović\, Andrej Mahovič\, Gašper Medve
 šek\, Miha Munda\, Tomaž Novljan\, Vasa J. Perović\, Anja Planišček\,
  Alessio Princic\, Paul O. Robinson\, Uroš Rustja\, Jurij Sadar\, Tomaž 
 Slak\, Tadej Urh\, Anja Vidic\, Matevž Zalar\, Martina Zbašnik-Senegačn
 ik\, Primož Žitnik\, Rok Žnidaršič\, Mitja Zorc\, Maruša Zorec\, Dom
 en Zupančič\, Tadeja Zupančič\nProstor: Seminarji
END:VEVENT
BEGIN:VEVENT
SUMMARY:Urban Design (UD )\, Predavanja (P)
DTSTART;TZID=Europe/Ljubljana:20250514T080000
DTEND;TZID=Europe/Ljubljana:20250514T100000
DTSTAMP:20260421T072121Z
UID:fa-AFLABS-URNIK:srecanje:2958-2025-05-14 08:00:00+02:00
DESCRIPTION:Predmet: Urban Design (UD )\, Predavanja (P)\nLetniki: MŠU - 
 1. letnik (MŠU)\nIzvajalci: Alenka Fikfak\nProstor: Galerija
END:VEVENT
BEGIN:VEVENT
SUMMARY:Urban Design (UD )\, Predavanja (P)
DTSTART;TZID=Europe/Ljubljana:20250521T080000
DTEND;TZID=Europe/Ljubljana:20250521T100000
DTSTAMP:20260421T072121Z
UID:fa-AFLABS-URNIK:srecanje:2958-2025-05-21 08:00:00+02:00
DESCRIPTION:Predmet: Urban Design (UD )\, Predavanja (P)\nLetniki: MŠU - 
 1. letnik (MŠU)\nIzvajalci: Alenka Fikfak\nProstor: Galerija
END:VEVENT
BEGIN:VEVENT
SUMMARY:Urban Design Studio 1 (UDS1)\, Vaje (V)
DTSTART;TZID=Europe/Ljubljana:20250516T080000
DTEND;TZID=Europe/Ljubljana:20250516T160000
DTSTAMP:20260421T072121Z
UID:fa-AFLABS-URNIK:srecanje:2970-2025-05-16 08:00:00+02:00
DESCRIPTION:Predmet: Urban Design Studio 1 (UDS1)\, Vaje (V)\nLetniki: UŠ
 U - 1. letnik (UŠU)\nIzvajalci: Alenka Fikfak\, Janez Peter Grom\, Matev
 ž Juvančič\nProstor: Seminarji
END:VEVENT
BEGIN:VEVENT
SUMMARY:Urban Design Studio 1 (UDS1)\, Vaje (V)
DTSTART;TZID=Europe/Ljubljana:20250523T080000
DTEND;TZID=Europe/Ljubljana:20250523T160000
DTSTAMP:20260421T072121Z
UID:fa-AFLABS-URNIK:srecanje:2970-2025-05-23 08:00:00+02:00
DESCRIPTION:Predmet: Urban Design Studio 1 (UDS1)\, Vaje (V)\nLetniki: UŠ
 U - 1. letnik (UŠU)\nIzvajalci: Alenka Fikfak\, Janez Peter Grom\, Matev
 ž Juvančič\nProstor: Seminarji
END:VEVENT
BEGIN:VEVENT
SUMMARY:Design Studio 1 (DS1)\, Vaje (V)
DTSTART;TZID=Europe/Ljubljana:20250516T080000
DTEND;TZID=Europe/Ljubljana:20250516T160000
DTSTAMP:20260421T072121Z
UID:fa-AFLABS-URNIK:srecanje:2904-2025-05-16 08:00:00+02:00
DESCRIPTION:Predmet: Design Studio 1 (DS1)\, Vaje (V)\nLetniki: EMŠA - 1.
  letnik (EMŠA)\nIzvajalci: Paulo A. Barbaresi\, Leon Belušič\, Matej Bl
 enkuš\, Katarina Čakš\, Petra Čeferin\, Ilka Čerpes\, Leon Debevec\, 
 Vid de Gleria\, Mihael Dešman\, Alenka Fikfak\, Polona Filipič Gorenšek
 \, Tadej Glažar\, Mojca Gregorski\, Jure Henigsman\, Primož Hočevar\, 
 Špela Hudnik\, Sonja Ifko\, Ana Kosi\, Ana Kreč\, Tomaž Krušec\, Ljubo
  Lah\, Jurij Ličen\, Vlatka Ljubanović\, Andrej Mahovič\, Gašper Medve
 šek\, Miha Munda\, Tomaž Novljan\, Vasa J. Perović\, Anja Planišček\,
  Alessio Princic\, Paul O. Robinson\, Uroš Rustja\, Jurij Sadar\, Tomaž 
 Slak\, Tadej Urh\, Anja Vidic\, Matevž Zalar\, Martina Zbašnik-Senegačn
 ik\, Primož Žitnik\, Rok Žnidaršič\, Mitja Zorc\, Maruša Zorec\, Dom
 en Zupančič\, Tadeja Zupančič\nProstor: Seminarji
END:VEVENT
BEGIN:VEVENT
SUMMARY:Design Studio 1 (DS1)\, Vaje (V)
DTSTART;TZID=Europe/Ljubljana:20250523T080000
DTEND;TZID=Europe/Ljubljana:20250523T160000
DTSTAMP:20260421T072121Z
UID:fa-AFLABS-URNIK:srecanje:2904-2025-05-23 08:00:00+02:00
DESCRIPTION:Predmet: Design Studio 1 (DS1)\, Vaje (V)\nLetniki: EMŠA - 1.
  letnik (EMŠA)\nIzvajalci: Paulo A. Barbaresi\, Leon Belušič\, Matej Bl
 enkuš\, Katarina Čakš\, Petra Čeferin\, Ilka Čerpes\, Leon Debevec\, 
 Vid de Gleria\, Mihael Dešman\, Alenka Fikfak\, Polona Filipič Gorenšek
 \, Tadej Glažar\, Mojca Gregorski\, Jure Henigsman\, Primož Hočevar\, 
 Špela Hudnik\, Sonja Ifko\, Ana Kosi\, Ana Kreč\, Tomaž Krušec\, Ljubo
  Lah\, Jurij Ličen\, Vlatka Ljubanović\, Andrej Mahovič\, Gašper Medve
 šek\, Miha Munda\, Tomaž Novljan\, Vasa J. Perović\, Anja Planišček\,
  Alessio Princic\, Paul O. Robinson\, Uroš Rustja\, Jurij Sadar\, Tomaž 
 Slak\, Tadej Urh\, Anja Vidic\, Matevž Zalar\, Martina Zbašnik-Senegačn
 ik\, Primož Žitnik\, Rok Žnidaršič\, Mitja Zorc\, Maruša Zorec\, Dom
 en Zupančič\, Tadeja Zupančič\nProstor: Seminarji
END:VEVENT
BEGIN:VEVENT
SUMMARY:Design Studio 2 (DS2)\, Vaje (V)
DTSTART;TZID=Europe/Ljubljana:20250516T080000
DTEND;TZID=Europe/Ljubljana:20250516T160000
DTSTAMP:20260421T072121Z
UID:fa-AFLABS-URNIK:srecanje:2906-2025-05-16 08:00:00+02:00
DESCRIPTION:Predmet: Design Studio 2 (DS2)\, Vaje (V)\nLetniki: EMŠA - 2.
  letnik (EMŠA)\nIzvajalci: Paulo A. Barbaresi\, Leon Belušič\, Matej Bl
 enkuš\, Katarina Čakš\, Petra Čeferin\, Ilka Čerpes\, Leon Debevec\, 
 Vid de Gleria\, Mihael Dešman\, Alenka Fikfak\, Polona Filipič Gorenšek
 \, Tadej Glažar\, Mojca Gregorski\, Jure Henigsman\, Primož Hočevar\, 
 Špela Hudnik\, Sonja Ifko\, Ana Kosi\, Ana Kreč\, Tomaž Krušec\, Ljubo
  Lah\, Jurij Ličen\, Vlatka Ljubanović\, Andrej Mahovič\, Gašper Medve
 šek\, Miha Munda\, Tomaž Novljan\, Vasa J. Perović\, Anja Planišček\,
  Alessio Princic\, Paul O. Robinson\, Uroš Rustja\, Jurij Sadar\, Tomaž 
 Slak\, Tadej Urh\, Anja Vidic\, Matevž Zalar\, Martina Zbašnik-Senegačn
 ik\, Primož Žitnik\, Rok Žnidaršič\, Mitja Zorc\, Maruša Zorec\, Dom
 en Zupančič\, Tadeja Zupančič\nProstor: Seminarji
END:VEVENT
BEGIN:VEVENT
SUMMARY:Design Studio 2 (DS2)\, Vaje (V)
DTSTART;TZID=Europe/Ljubljana:20250523T080000
DTEND;TZID=Europe/Ljubljana:20250523T160000
DTSTAMP:20260421T072121Z
UID:fa-AFLABS-URNIK:srecanje:2906-2025-05-23 08:00:00+02:00
DESCRIPTION:Predmet: Design Studio 2 (DS2)\, Vaje (V)\nLetniki: EMŠA - 2.
  letnik (EMŠA)\nIzvajalci: Paulo A. Barbaresi\, Leon Belušič\, Matej Bl
 enkuš\, Katarina Čakš\, Petra Čeferin\, Ilka Čerpes\, Leon Debevec\, 
 Vid de Gleria\, Mihael Dešman\, Alenka Fikfak\, Polona Filipič Gorenšek
 \, Tadej Glažar\, Mojca Gregorski\, Jure Henigsman\, Primož Hočevar\, 
 Špela Hudnik\, Sonja Ifko\, Ana Kosi\, Ana Kreč\, Tomaž Krušec\, Ljubo
  Lah\, Jurij Ličen\, Vlatka Ljubanović\, Andrej Mahovič\, Gašper Medve
 šek\, Miha Munda\, Tomaž Novljan\, Vasa J. Perović\, Anja Planišček\,
  Alessio Princic\, Paul O. Robinson\, Uroš Rustja\, Jurij Sadar\, Tomaž 
 Slak\, Tadej Urh\, Anja Vidic\, Matevž Zalar\, Martina Zbašnik-Senegačn
 ik\, Primož Žitnik\, Rok Žnidaršič\, Mitja Zorc\, Maruša Zorec\, Dom
 en Zupančič\, Tadeja Zupančič\nProstor: Seminarji
END:VEVENT
BEGIN:VEVENT
SUMMARY:Design Studio 3 (DS3)\, Vaje (V)
DTSTART;TZID=Europe/Ljubljana:20250516T080000
DTEND;TZID=Europe/Ljubljana:20250516T160000
DTSTAMP:20260421T072121Z
UID:fa-AFLABS-URNIK:srecanje:2908-2025-05-16 08:00:00+02:00
DESCRIPTION:Predmet: Design Studio 3 (DS3)\, Vaje (V)\nLetniki: EMŠA - 3.
  letnik (EMŠA)\nIzvajalci: Paulo A. Barbaresi\, Leon Belušič\, Matej Bl
 enkuš\, Katarina Čakš\, Petra Čeferin\, Ilka Čerpes\, Leon Debevec\, 
 Vid de Gleria\, Mihael Dešman\, Alenka Fikfak\, Polona Filipič Gorenšek
 \, Tadej Glažar\, Mojca Gregorski\, Jure Henigsman\, Primož Hočevar\, 
 Špela Hudnik\, Sonja Ifko\, Ana Kosi\, Ana Kreč\, Tomaž Krušec\, Ljubo
  Lah\, Jurij Ličen\, Vlatka Ljubanović\, Andrej Mahovič\, Gašper Medve
 šek\, Miha Munda\, Tomaž Novljan\, Vasa J. Perović\, Anja Planišček\,
  Alessio Princic\, Paul O. Robinson\, Uroš Rustja\, Jurij Sadar\, Tomaž 
 Slak\, Tadej Urh\, Anja Vidic\, Matevž Zalar\, Martina Zbašnik-Senegačn
 ik\, Primož Žitnik\, Rok Žnidaršič\, Mitja Zorc\, Maruša Zorec\, Dom
 en Zupančič\, Tadeja Zupančič\nProstor: Seminarji
END:VEVENT
BEGIN:VEVENT
SUMMARY:Design Studio 3 (DS3)\, Vaje (V)
DTSTART;TZID=Europe/Ljubljana:20250523T080000
DTEND;TZID=Europe/Ljubljana:20250523T160000
DTSTAMP:20260421T072121Z
UID:fa-AFLABS-URNIK:srecanje:2908-2025-05-23 08:00:00+02:00
DESCRIPTION:Predmet: Design Studio 3 (DS3)\, Vaje (V)\nLetniki: EMŠA - 3.
  letnik (EMŠA)\nIzvajalci: Paulo A. Barbaresi\, Leon Belušič\, Matej Bl
 enkuš\, Katarina Čakš\, Petra Čeferin\, Ilka Čerpes\, Leon Debevec\, 
 Vid de Gleria\, Mihael Dešman\, Alenka Fikfak\, Polona Filipič Gorenšek
 \, Tadej Glažar\, Mojca Gregorski\, Jure Henigsman\, Primož Hočevar\, 
 Špela Hudnik\, Sonja Ifko\, Ana Kosi\, Ana Kreč\, Tomaž Krušec\, Ljubo
  Lah\, Jurij Ličen\, Vlatka Ljubanović\, Andrej Mahovič\, Gašper Medve
 šek\, Miha Munda\, Tomaž Novljan\, Vasa J. Perović\, Anja Planišček\,
  Alessio Princic\, Paul O. Robinson\, Uroš Rustja\, Jurij Sadar\, Tomaž 
 Slak\, Tadej Urh\, Anja Vidic\, Matevž Zalar\, Martina Zbašnik-Senegačn
 ik\, Primož Žitnik\, Rok Žnidaršič\, Mitja Zorc\, Maruša Zorec\, Dom
 en Zupančič\, Tadeja Zupančič\nProstor: Seminarji
END:VEVENT
BEGIN:VEVENT
SUMMARY:Design Studio 4 (DS4)\, Vaje (V)
DTSTART;TZID=Europe/Ljubljana:20250516T080000
DTEND;TZID=Europe/Ljubljana:20250516T160000
DTSTAMP:20260421T072121Z
UID:fa-AFLABS-URNIK:srecanje:2910-2025-05-16 08:00:00+02:00
DESCRIPTION:Predmet: Design Studio 4 (DS4)\, Vaje (V)\nLetniki: EMŠA - 4.
  letnik (EMŠA)\nIzvajalci: Paulo A. Barbaresi\, Leon Belušič\, Matej Bl
 enkuš\, Katarina Čakš\, Petra Čeferin\, Ilka Čerpes\, Leon Debevec\, 
 Vid de Gleria\, Mihael Dešman\, Alenka Fikfak\, Polona Filipič Gorenšek
 \, Tadej Glažar\, Mojca Gregorski\, Jure Henigsman\, Primož Hočevar\, 
 Špela Hudnik\, Sonja Ifko\, Ana Kosi\, Ana Kreč\, Tomaž Krušec\, Ljubo
  Lah\, Jurij Ličen\, Vlatka Ljubanović\, Andrej Mahovič\, Gašper Medve
 šek\, Miha Munda\, Tomaž Novljan\, Vasa J. Perović\, Anja Planišček\,
  Alessio Princic\, Paul O. Robinson\, Uroš Rustja\, Jurij Sadar\, Tomaž 
 Slak\, Tadej Urh\, Anja Vidic\, Matevž Zalar\, Martina Zbašnik-Senegačn
 ik\, Primož Žitnik\, Rok Žnidaršič\, Mitja Zorc\, Maruša Zorec\, Dom
 en Zupančič\, Tadeja Zupančič\nProstor: Seminarji
END:VEVENT
BEGIN:VEVENT
SUMMARY:Design Studio 4 (DS4)\, Vaje (V)
DTSTART;TZID=Europe/Ljubljana:20250523T080000
DTEND;TZID=Europe/Ljubljana:20250523T160000
DTSTAMP:20260421T072121Z
UID:fa-AFLABS-URNIK:srecanje:2910-2025-05-23 08:00:00+02:00
DESCRIPTION:Predmet: Design Studio 4 (DS4)\, Vaje (V)\nLetniki: EMŠA - 4.
  letnik (EMŠA)\nIzvajalci: Paulo A. Barbaresi\, Leon Belušič\, Matej Bl
 enkuš\, Katarina Čakš\, Petra Čeferin\, Ilka Čerpes\, Leon Debevec\, 
 Vid de Gleria\, Mihael Dešman\, Alenka Fikfak\, Polona Filipič Gorenšek
 \, Tadej Glažar\, Mojca Gregorski\, Jure Henigsman\, Primož Hočevar\, 
 Špela Hudnik\, Sonja Ifko\, Ana Kosi\, Ana Kreč\, Tomaž Krušec\, Ljubo
  Lah\, Jurij Ličen\, Vlatka Ljubanović\, Andrej Mahovič\, Gašper Medve
 šek\, Miha Munda\, Tomaž Novljan\, Vasa J. Perović\, Anja Planišček\,
  Alessio Princic\, Paul O. Robinson\, Uroš Rustja\, Jurij Sadar\, Tomaž 
 Slak\, Tadej Urh\, Anja Vidic\, Matevž Zalar\, Martina Zbašnik-Senegačn
 ik\, Primož Žitnik\, Rok Žnidaršič\, Mitja Zorc\, Maruša Zorec\, Dom
 en Zupančič\, Tadeja Zupančič\nProstor: Seminarji
END:VEVENT
BEGIN:VEVENT
SUMMARY:izredni MŠU
DTSTART;TZID=Europe/Ljubljana:20250523T150000
DTEND;TZID=Europe/Ljubljana:20250523T200000
DTSTAMP:20260421T072121Z
UID:fa-AFLABS-URNIK:rezervacija:2638243
ATTENDEE:MŠU - 1. letnik (MŠU)
CATEGORIES:Reservation
COLOR:royalblue
DESCRIPTION:Predmeti: Evaluation and Protection of Cultural Landscape (EAP
 OCL)\nLetniki: MŠU - 1. letnik (MŠU)\nIzvajalci: Alenka Fikfak\nProstori
 : Plečnikova soba
LOCATION:Plečnikova soba
ORGANIZER:Alenka Fikfak
X-WR-TIMEZONE:Europe/Ljubljana
END:VEVENT
BEGIN:VEVENT
SUMMARY:INFORMATIVNI DNEVI ZA MAGISTRSKE ŠTUDIJSKE PROGRAME
DTSTART;TZID=Europe/Ljubljana:20250613T120000
DTEND;TZID=Europe/Ljubljana:20250613T150000
DTSTAMP:20260421T072121Z
UID:fa-AFLABS-URNIK:rezervacija:2306889
CATEGORIES:Reservation
COLOR:royalblue
DESCRIPTION:Predmeti: \nLetniki: \nIzvajalci: Alenka Fikfak\nProstori: Ple
 čnikova soba
LOCATION:Plečnikova soba
ORGANIZER:Alenka Fikfak
X-WR-TIMEZONE:Europe/Ljubljana
END:VEVENT
BEGIN:VEVENT
SUMMARY:sestanek projektne skupine SAFE
DTSTART;TZID=Europe/Ljubljana:20250606T083000
DTEND;TZID=Europe/Ljubljana:20250606T170000
DTSTAMP:20260421T072121Z
UID:fa-AFLABS-URNIK:rezervacija:2634809
CATEGORIES:Reservation
COLOR:royalblue
DESCRIPTION:Predmeti: \nLetniki: \nIzvajalci: Alenka Fikfak\, Aleš Švige
 lj\nProstori: Plečnikova soba
LOCATION:Plečnikova soba
ORGANIZER:Alenka Fikfak, Aleš Švigelj
X-WR-TIMEZONE:Europe/Ljubljana
END:VEVENT
BEGIN:VEVENT
SUMMARY:izredni MŠU
DTSTART;TZID=Europe/Ljubljana:20250530T150000
DTEND;TZID=Europe/Ljubljana:20250530T200000
DTSTAMP:20260421T072121Z
UID:fa-AFLABS-URNIK:rezervacija:2638244
ATTENDEE:MŠU - 1. letnik (MŠU)
CATEGORIES:Reservation
COLOR:royalblue
DESCRIPTION:Predmeti: Evaluation and Protection of Cultural Landscape (EAP
 OCL)\nLetniki: MŠU - 1. letnik (MŠU)\nIzvajalci: Alenka Fikfak\nProstori
 : Plečnikova soba
LOCATION:Plečnikova soba
ORGANIZER:Alenka Fikfak
X-WR-TIMEZONE:Europe/Ljubljana
END:VEVENT
BEGIN:VEVENT
SUMMARY:izpit na izredni MŠU
DTSTART;TZID=Europe/Ljubljana:20250613T150000
DTEND;TZID=Europe/Ljubljana:20250613T170000
DTSTAMP:20260421T072121Z
UID:fa-AFLABS-URNIK:rezervacija:2854968
ATTENDEE:MŠU - 1. letnik (MŠU)
CATEGORIES:Reservation
COLOR:royalblue
DESCRIPTION:Predmeti: Evaluation and Protection of Cultural Landscape (EAP
 OCL)\nLetniki: MŠU - 1. letnik (MŠU)\nIzvajalci: Alenka Fikfak\nProstori
 : Plečnikova soba
LOCATION:Plečnikova soba
ORGANIZER:Alenka Fikfak
X-WR-TIMEZONE:Europe/Ljubljana
END:VEVENT
BEGIN:VEVENT
SUMMARY:sestanek projektne skupine SAFE
DTSTART;TZID=Europe/Ljubljana:20250605T083000
DTEND;TZID=Europe/Ljubljana:20250605T170000
DTSTAMP:20260421T072121Z
UID:fa-AFLABS-URNIK:rezervacija:2634808
CATEGORIES:Reservation
COLOR:royalblue
DESCRIPTION:Predmeti: \nLetniki: \nIzvajalci: Alenka Fikfak\, Aleš Švige
 lj\nProstori: Plečnikova soba
LOCATION:Plečnikova soba
ORGANIZER:Alenka Fikfak, Aleš Švigelj
X-WR-TIMEZONE:Europe/Ljubljana
END:VEVENT
BEGIN:VEVENT
SUMMARY:izredni MŠU
DTSTART;TZID=Europe/Ljubljana:20250516T150000
DTEND;TZID=Europe/Ljubljana:20250516T200000
DTSTAMP:20260421T072121Z
UID:fa-AFLABS-URNIK:rezervacija:2638242
ATTENDEE:MŠU - 1. letnik (MŠU)
CATEGORIES:Reservation
COLOR:royalblue
DESCRIPTION:Predmeti: Evaluation and Protection of Cultural Landscape (EAP
 OCL)\nLetniki: MŠU - 1. letnik (MŠU)\nIzvajalci: Alenka Fikfak\nProstori
 : Plečnikova soba
LOCATION:Plečnikova soba
ORGANIZER:Alenka Fikfak
X-WR-TIMEZONE:Europe/Ljubljana
END:VEVENT
END:VCALENDAR
