BEGIN:VCALENDAR
VERSION:2.0
PRODID:-//AFLabs urnik izvoz - fa//aflabs.si//SI
NAME:UL FA urnik
X-WR-CALNAME:UL FA urnik
DTSTAMP:20260420T000321Z
REFRESH-INTERVAL:PT1H
SOURCE:https://urnik.fa.uni-lj.si/en/teacher/282/?day=2025-09-29&export=1
URL:https://urnik.fa.uni-lj.si/en/teacher/282/?day=2025-09-29&export=1
X-PUBLISHED-TTL:PT1H
X-WR-TIMEZONE:Europe/Ljubljana
BEGIN:VTIMEZONE
TZID:Europe/Ljubljana
BEGIN:DAYLIGHT
DTSTART:20260329T020000
RDATE:20260329T020000
RDATE:20270328T020000
TZNAME:CEST
TZOFFSETFROM:+0100
TZOFFSETTO:+0200
END:DAYLIGHT
BEGIN:STANDARD
DTSTART:20261025T030000
RDATE:20261025T030000
RDATE:20271031T030000
TZNAME:CET
TZOFFSETFROM:+0200
TZOFFSETTO:+0100
END:STANDARD
END:VTIMEZONE
BEGIN:VEVENT
SUMMARY:Rural Planning (RP)\, Predavanja (P)
DTSTART;TZID=Europe/Ljubljana:20251001T090000
DTEND;TZID=Europe/Ljubljana:20251001T110000
DTSTAMP:20260420T000321Z
UID:fa-AFLABS-URNIK:srecanje:3114-2025-10-01 09:00:00+02:00
DESCRIPTION:Predmet: Rural Planning (RP)\, Predavanja (P)\nLetniki: UŠU -
  3. letnik (UŠU)\nIzvajalci: Janez Peter Grom\nProstor: Galerija
END:VEVENT
BEGIN:VEVENT
SUMMARY:Rural Planning (RP)\, Predavanja (P)
DTSTART;TZID=Europe/Ljubljana:20251008T090000
DTEND;TZID=Europe/Ljubljana:20251008T110000
DTSTAMP:20260420T000321Z
UID:fa-AFLABS-URNIK:srecanje:3114-2025-10-08 09:00:00+02:00
DESCRIPTION:Predmet: Rural Planning (RP)\, Predavanja (P)\nLetniki: UŠU -
  3. letnik (UŠU)\nIzvajalci: Janez Peter Grom\nProstor: Galerija
END:VEVENT
BEGIN:VEVENT
SUMMARY:Rural Planning (RP)\, Predavanja (P)
DTSTART;TZID=Europe/Ljubljana:20251015T090000
DTEND;TZID=Europe/Ljubljana:20251015T110000
DTSTAMP:20260420T000321Z
UID:fa-AFLABS-URNIK:srecanje:3114-2025-10-15 09:00:00+02:00
DESCRIPTION:Predmet: Rural Planning (RP)\, Predavanja (P)\nLetniki: UŠU -
  3. letnik (UŠU)\nIzvajalci: Janez Peter Grom\nProstor: Galerija
END:VEVENT
BEGIN:VEVENT
SUMMARY:Rural Planning (RP)\, Predavanja (P)
DTSTART;TZID=Europe/Ljubljana:20251022T090000
DTEND;TZID=Europe/Ljubljana:20251022T110000
DTSTAMP:20260420T000321Z
UID:fa-AFLABS-URNIK:srecanje:3114-2025-10-22 09:00:00+02:00
DESCRIPTION:Predmet: Rural Planning (RP)\, Predavanja (P)\nLetniki: UŠU -
  3. letnik (UŠU)\nIzvajalci: Janez Peter Grom\nProstor: Galerija
END:VEVENT
BEGIN:VEVENT
SUMMARY:Rural Planning (RP)\, Predavanja (P)
DTSTART;TZID=Europe/Ljubljana:20251029T090000
DTEND;TZID=Europe/Ljubljana:20251029T110000
DTSTAMP:20260420T000321Z
UID:fa-AFLABS-URNIK:srecanje:3114-2025-10-29 09:00:00+01:00
DESCRIPTION:Predmet: Rural Planning (RP)\, Predavanja (P)\nLetniki: UŠU -
  3. letnik (UŠU)\nIzvajalci: Janez Peter Grom\nProstor: Galerija
END:VEVENT
BEGIN:VEVENT
SUMMARY:Rural Planning (RP)\, Vaje (V)
DTSTART;TZID=Europe/Ljubljana:20251001T110000
DTEND;TZID=Europe/Ljubljana:20251001T120000
DTSTAMP:20260420T000321Z
UID:fa-AFLABS-URNIK:srecanje:3115-2025-10-01 11:00:00+02:00
DESCRIPTION:Predmet: Rural Planning (RP)\, Vaje (V)\nLetniki: UŠU - 3. le
 tnik (UŠU)\nIzvajalci: Janez Peter Grom\nProstor: Galerija
END:VEVENT
BEGIN:VEVENT
SUMMARY:Rural Planning (RP)\, Vaje (V)
DTSTART;TZID=Europe/Ljubljana:20251008T110000
DTEND;TZID=Europe/Ljubljana:20251008T120000
DTSTAMP:20260420T000321Z
UID:fa-AFLABS-URNIK:srecanje:3115-2025-10-08 11:00:00+02:00
DESCRIPTION:Predmet: Rural Planning (RP)\, Vaje (V)\nLetniki: UŠU - 3. le
 tnik (UŠU)\nIzvajalci: Janez Peter Grom\nProstor: Galerija
END:VEVENT
BEGIN:VEVENT
SUMMARY:Rural Planning (RP)\, Vaje (V)
DTSTART;TZID=Europe/Ljubljana:20251015T110000
DTEND;TZID=Europe/Ljubljana:20251015T120000
DTSTAMP:20260420T000321Z
UID:fa-AFLABS-URNIK:srecanje:3115-2025-10-15 11:00:00+02:00
DESCRIPTION:Predmet: Rural Planning (RP)\, Vaje (V)\nLetniki: UŠU - 3. le
 tnik (UŠU)\nIzvajalci: Janez Peter Grom\nProstor: Galerija
END:VEVENT
BEGIN:VEVENT
SUMMARY:Rural Planning (RP)\, Vaje (V)
DTSTART;TZID=Europe/Ljubljana:20251022T110000
DTEND;TZID=Europe/Ljubljana:20251022T120000
DTSTAMP:20260420T000321Z
UID:fa-AFLABS-URNIK:srecanje:3115-2025-10-22 11:00:00+02:00
DESCRIPTION:Predmet: Rural Planning (RP)\, Vaje (V)\nLetniki: UŠU - 3. le
 tnik (UŠU)\nIzvajalci: Janez Peter Grom\nProstor: Galerija
END:VEVENT
BEGIN:VEVENT
SUMMARY:Rural Planning (RP)\, Vaje (V)
DTSTART;TZID=Europe/Ljubljana:20251029T110000
DTEND;TZID=Europe/Ljubljana:20251029T120000
DTSTAMP:20260420T000321Z
UID:fa-AFLABS-URNIK:srecanje:3115-2025-10-29 11:00:00+01:00
DESCRIPTION:Predmet: Rural Planning (RP)\, Vaje (V)\nLetniki: UŠU - 3. le
 tnik (UŠU)\nIzvajalci: Janez Peter Grom\nProstor: Galerija
END:VEVENT
BEGIN:VEVENT
SUMMARY:RCA znanstvena konferenca 2025
DTSTART;TZID=Europe/Ljubljana:20250917T090000
DTEND;TZID=Europe/Ljubljana:20250917T180000
DTSTAMP:20260420T000321Z
UID:fa-AFLABS-URNIK:rezervacija:2135303
CATEGORIES:Reservation
COLOR:royalblue
DESCRIPTION:Predmeti: \nLetniki: \nIzvajalci: Alenka Fikfak\, Janez Peter 
 Grom\nProstori: Plečnikova predavalnica\, Vurnikova predavalnica\, Galeri
 ja\, Avla pred Plečnikovo predavalnico
LOCATION:Plečnikova predavalnica\, Vurnikova predavalnica\, Galerija\, Av
 la pred Plečnikovo predavalnico
ORGANIZER:Alenka Fikfak, Janez Peter Grom
X-WR-TIMEZONE:Europe/Ljubljana
END:VEVENT
BEGIN:VEVENT
SUMMARY:RCA znanstvena konferenca 2025
DTSTART;TZID=Europe/Ljubljana:20250918T090000
DTEND;TZID=Europe/Ljubljana:20250918T180000
DTSTAMP:20260420T000321Z
UID:fa-AFLABS-URNIK:rezervacija:2135304
CATEGORIES:Reservation
COLOR:royalblue
DESCRIPTION:Predmeti: \nLetniki: \nIzvajalci: Alenka Fikfak\, Janez Peter 
 Grom\nProstori: Plečnikova predavalnica\, Vurnikova predavalnica\, Galeri
 ja\, Avla pred Plečnikovo predavalnico
LOCATION:Plečnikova predavalnica\, Vurnikova predavalnica\, Galerija\, Av
 la pred Plečnikovo predavalnico
ORGANIZER:Alenka Fikfak, Janez Peter Grom
X-WR-TIMEZONE:Europe/Ljubljana
END:VEVENT
BEGIN:VEVENT
SUMMARY:RCA znanstvena konferenca 2025
DTSTART;TZID=Europe/Ljubljana:20250919T090000
DTEND;TZID=Europe/Ljubljana:20250919T180000
DTSTAMP:20260420T000321Z
UID:fa-AFLABS-URNIK:rezervacija:2135305
CATEGORIES:Reservation
COLOR:royalblue
DESCRIPTION:Predmeti: \nLetniki: \nIzvajalci: Alenka Fikfak\, Janez Peter 
 Grom\nProstori: Plečnikova predavalnica\, Vurnikova predavalnica\, Galeri
 ja\, Avla pred Plečnikovo predavalnico
LOCATION:Plečnikova predavalnica\, Vurnikova predavalnica\, Galerija\, Av
 la pred Plečnikovo predavalnico
ORGANIZER:Alenka Fikfak, Janez Peter Grom
X-WR-TIMEZONE:Europe/Ljubljana
END:VEVENT
BEGIN:VEVENT
SUMMARY:RCA konferenca
DTSTART;TZID=Europe/Ljubljana:20250917T083000
DTEND;TZID=Europe/Ljubljana:20250917T170000
DTSTAMP:20260420T000321Z
UID:fa-AFLABS-URNIK:rezervacija:3398600
CATEGORIES:Reservation
COLOR:royalblue
DESCRIPTION:Predmeti: Urbanizem - projektiranje UŠU/MŠU (UP)\nLetniki: \
 nIzvajalci: Alenka Fikfak\, Janez Peter Grom\nProstori: Predavalnica 2
LOCATION:Predavalnica 2
ORGANIZER:Alenka Fikfak, Janez Peter Grom
X-WR-TIMEZONE:Europe/Ljubljana
END:VEVENT
BEGIN:VEVENT
SUMMARY:RCA konferenca
DTSTART;TZID=Europe/Ljubljana:20250918T083000
DTEND;TZID=Europe/Ljubljana:20250918T170000
DTSTAMP:20260420T000321Z
UID:fa-AFLABS-URNIK:rezervacija:3398601
CATEGORIES:Reservation
COLOR:royalblue
DESCRIPTION:Predmeti: Urbanizem - projektiranje UŠU/MŠU (UP)\nLetniki: \
 nIzvajalci: Alenka Fikfak\, Janez Peter Grom\nProstori: Predavalnica 2
LOCATION:Predavalnica 2
ORGANIZER:Alenka Fikfak, Janez Peter Grom
X-WR-TIMEZONE:Europe/Ljubljana
END:VEVENT
BEGIN:VEVENT
SUMMARY:sestanek skupine FA\, FGG\, UIRS
DTSTART;TZID=Europe/Ljubljana:20251020T100000
DTEND;TZID=Europe/Ljubljana:20251020T120000
DTSTAMP:20260420T000321Z
UID:fa-AFLABS-URNIK:rezervacija:3728017
CATEGORIES:Reservation
COLOR:royalblue
DESCRIPTION:Predmeti: Urbanizem - projektiranje UŠU/MŠU (UP)\nLetniki: \
 nIzvajalci: Tadej Glažar\, Janez Peter Grom\, Martina Zbašnik-Senegačni
 k\nProstori: Plečnikova soba
LOCATION:Plečnikova soba
ORGANIZER:Tadej Glažar, Janez Peter Grom, Martina Zbašnik-Senegačnik
X-WR-TIMEZONE:Europe/Ljubljana
END:VEVENT
END:VCALENDAR
