BEGIN:VCALENDAR
VERSION:2.0
PRODID:-//AFLabs urnik izvoz - fa//aflabs.si//SI
NAME:UL FA urnik
X-WR-CALNAME:UL FA urnik
DTSTAMP:20260421T203328Z
REFRESH-INTERVAL:PT1H
SOURCE:https://urnik.fa.uni-lj.si/en/teacher/296/?day=2025-09-01&export=1
URL:https://urnik.fa.uni-lj.si/en/teacher/296/?day=2025-09-01&export=1
X-PUBLISHED-TTL:PT1H
X-WR-TIMEZONE:Europe/Ljubljana
BEGIN:VTIMEZONE
TZID:Europe/Ljubljana
BEGIN:DAYLIGHT
DTSTART:20260329T020000
RDATE:20260329T020000
RDATE:20270328T020000
TZNAME:CEST
TZOFFSETFROM:+0100
TZOFFSETTO:+0200
END:DAYLIGHT
BEGIN:STANDARD
DTSTART:20261025T030000
RDATE:20261025T030000
RDATE:20271031T030000
TZNAME:CET
TZOFFSETFROM:+0200
TZOFFSETTO:+0100
END:STANDARD
END:VTIMEZONE
BEGIN:VEVENT
SUMMARY:Detail in architecture (DA)\, Vaje (V)\, [D]
DTSTART;TZID=Europe/Ljubljana:20251001T120000
DTEND;TZID=Europe/Ljubljana:20251001T140000
DTSTAMP:20260421T203328Z
UID:fa-AFLABS-URNIK:srecanje:3231-2025-10-01 12:00:00+02:00
DESCRIPTION:Predmet: Detail in architecture (DA)\, Vaje (V)\, [D]\nLetniki
 : EMŠA - 4. letnik (EMŠA)\nIzvajalci: Ljudmila Koprivec\nProstor: Vurnik
 ova predavalnica
END:VEVENT
BEGIN:VEVENT
SUMMARY:Detail in architecture (DA)\, Vaje (V)\, [B]
DTSTART;TZID=Europe/Ljubljana:20251001T100000
DTEND;TZID=Europe/Ljubljana:20251001T120000
DTSTAMP:20260421T203328Z
UID:fa-AFLABS-URNIK:srecanje:3249-2025-10-01 10:00:00+02:00
DESCRIPTION:Predmet: Detail in architecture (DA)\, Vaje (V)\, [B]\nLetniki
 : EMŠA - 4. letnik (EMŠA)\nIzvajalci: Ljudmila Koprivec\nProstor: Soba 3
 3
END:VEVENT
BEGIN:VEVENT
SUMMARY:Detail in architecture (DA)\, Vaje (V)\, [A]
DTSTART;TZID=Europe/Ljubljana:20251002T080000
DTEND;TZID=Europe/Ljubljana:20251002T100000
DTSTAMP:20260421T203328Z
UID:fa-AFLABS-URNIK:srecanje:3233-2025-10-02 08:00:00+02:00
DESCRIPTION:Predmet: Detail in architecture (DA)\, Vaje (V)\, [A]\nLetniki
 : EMŠA - 4. letnik (EMŠA)\nIzvajalci: Ljudmila Koprivec\nProstor: Galeri
 ja
END:VEVENT
BEGIN:VEVENT
SUMMARY:Detail in architecture (DA)\, Vaje (V)\, [C]
DTSTART;TZID=Europe/Ljubljana:20251002T100000
DTEND;TZID=Europe/Ljubljana:20251002T120000
DTSTAMP:20260421T203328Z
UID:fa-AFLABS-URNIK:srecanje:3191-2025-10-02 10:00:00+02:00
DESCRIPTION:Predmet: Detail in architecture (DA)\, Vaje (V)\, [C]\nLetniki
 : EMŠA - 4. letnik (EMŠA)\nIzvajalci: Ljudmila Koprivec\nProstor: Predav
 alnica 2
END:VEVENT
END:VCALENDAR
