BEGIN:VCALENDAR
VERSION:2.0
PRODID:-//AFLabs urnik izvoz - fa//aflabs.si//SI
NAME:UL FA urnik
X-WR-CALNAME:UL FA urnik
DTSTAMP:20260422T150810Z
REFRESH-INTERVAL:PT1H
SOURCE:https://urnik.fa.uni-lj.si/en/teacher/310/?day=2025-09-15&export=1
URL:https://urnik.fa.uni-lj.si/en/teacher/310/?day=2025-09-15&export=1
X-PUBLISHED-TTL:PT1H
X-WR-TIMEZONE:Europe/Ljubljana
BEGIN:VTIMEZONE
TZID:Europe/Ljubljana
BEGIN:DAYLIGHT
DTSTART:20260329T020000
RDATE:20260329T020000
RDATE:20270328T020000
TZNAME:CEST
TZOFFSETFROM:+0100
TZOFFSETTO:+0200
END:DAYLIGHT
BEGIN:STANDARD
DTSTART:20261025T030000
RDATE:20261025T030000
RDATE:20271031T030000
TZNAME:CET
TZOFFSETFROM:+0200
TZOFFSETTO:+0100
END:STANDARD
END:VTIMEZONE
BEGIN:VEVENT
SUMMARY:Seminar Gregorski
DTSTART;TZID=Europe/Ljubljana:20251007T090000
DTEND;TZID=Europe/Ljubljana:20251007T110000
DTSTAMP:20260422T150810Z
UID:fa-AFLABS-URNIK:rezervacija:3635099
ATTENDEE:EMŠA - 3. letnik (EMŠA)
CATEGORIES:Reservation
COLOR:royalblue
DESCRIPTION:Predmeti: Design Studio 3 (DS3)\nLetniki: EMŠA - 3. letnik (E
 MŠA)\nIzvajalci: Mojca Gregorski\, Matevž Zalar\nProstori: Vurnikova pre
 davalnica
LOCATION:Vurnikova predavalnica
ORGANIZER:Mojca Gregorski, Matevž Zalar
X-WR-TIMEZONE:Europe/Ljubljana
END:VEVENT
BEGIN:VEVENT
SUMMARY:Seminar Gregorski
DTSTART;TZID=Europe/Ljubljana:20251007T080000
DTEND;TZID=Europe/Ljubljana:20251007T113000
DTSTAMP:20260422T150810Z
UID:fa-AFLABS-URNIK:rezervacija:3680387
ATTENDEE:EMŠA - 2. letnik (EMŠA)
CATEGORIES:Reservation
COLOR:royalblue
DESCRIPTION:Predmeti: Design Studio 2 (DS2)\nLetniki: EMŠA - 2. letnik (E
 MŠA)\nIzvajalci: Mojca Gregorski\, Matevž Zalar\nProstori: Predavalnica 
 2
LOCATION:Predavalnica 2
ORGANIZER:Mojca Gregorski, Matevž Zalar
X-WR-TIMEZONE:Europe/Ljubljana
END:VEVENT
BEGIN:VEVENT
SUMMARY:Seminar Gregorski
DTSTART;TZID=Europe/Ljubljana:20251014T083000
DTEND;TZID=Europe/Ljubljana:20251014T120000
DTSTAMP:20260422T150810Z
UID:fa-AFLABS-URNIK:rezervacija:3725969
ATTENDEE:EMŠA - 3. letnik (EMŠA)
CATEGORIES:Reservation
COLOR:royalblue
DESCRIPTION:Predmeti: Design Studio 3 (DS3)\nLetniki: EMŠA - 3. letnik (E
 MŠA)\nIzvajalci: Mojca Gregorski\, Matevž Zalar\nProstori: Predavalnica 
 2
LOCATION:Predavalnica 2
ORGANIZER:Mojca Gregorski, Matevž Zalar
X-WR-TIMEZONE:Europe/Ljubljana
END:VEVENT
END:VCALENDAR
