BEGIN:VCALENDAR
VERSION:2.0
PRODID:-//AFLabs urnik izvoz - fa//aflabs.si//SI
NAME:UL FA urnik
X-WR-CALNAME:UL FA urnik
DTSTAMP:20260423T200829Z
REFRESH-INTERVAL:PT1H
SOURCE:https://urnik.fa.uni-lj.si/en/teacher/323/?day=2025-06-02&export=1
URL:https://urnik.fa.uni-lj.si/en/teacher/323/?day=2025-06-02&export=1
X-PUBLISHED-TTL:PT1H
X-WR-TIMEZONE:Europe/Ljubljana
BEGIN:VTIMEZONE
TZID:Europe/Ljubljana
BEGIN:DAYLIGHT
DTSTART:20260329T020000
RDATE:20260329T020000
RDATE:20270328T020000
TZNAME:CEST
TZOFFSETFROM:+0100
TZOFFSETTO:+0200
END:DAYLIGHT
BEGIN:STANDARD
DTSTART:20261025T030000
RDATE:20261025T030000
RDATE:20271031T030000
TZNAME:CET
TZOFFSETFROM:+0200
TZOFFSETTO:+0100
END:STANDARD
END:VTIMEZONE
BEGIN:VEVENT
SUMMARY:Architecture of Virtual Space (AVS)\, Predavanja (P)
DTSTART;TZID=Europe/Ljubljana:20250429T173000
DTEND;TZID=Europe/Ljubljana:20250429T190000
DTSTAMP:20260423T200829Z
UID:fa-AFLABS-URNIK:srecanje:2823-2025-04-29 17:30:00+02:00
DESCRIPTION:Predmet: Architecture of Virtual Space (AVS)\, Predavanja (P)\
 nLetniki: EMŠA - 5. letnik (EMŠA)\nIzvajalci: Or Ettlinger\nProstor: Gal
 erija
END:VEVENT
BEGIN:VEVENT
SUMMARY:Architecture of Virtual Space (AVS)\, Predavanja (P)
DTSTART;TZID=Europe/Ljubljana:20250506T173000
DTEND;TZID=Europe/Ljubljana:20250506T190000
DTSTAMP:20260423T200829Z
UID:fa-AFLABS-URNIK:srecanje:2823-2025-05-06 17:30:00+02:00
DESCRIPTION:Predmet: Architecture of Virtual Space (AVS)\, Predavanja (P)\
 nLetniki: EMŠA - 5. letnik (EMŠA)\nIzvajalci: Or Ettlinger\nProstor: Gal
 erija
END:VEVENT
BEGIN:VEVENT
SUMMARY:Architecture of Virtual Space (AVS)\, Predavanja (P)
DTSTART;TZID=Europe/Ljubljana:20250513T173000
DTEND;TZID=Europe/Ljubljana:20250513T190000
DTSTAMP:20260423T200829Z
UID:fa-AFLABS-URNIK:srecanje:2823-2025-05-13 17:30:00+02:00
DESCRIPTION:Predmet: Architecture of Virtual Space (AVS)\, Predavanja (P)\
 nLetniki: EMŠA - 5. letnik (EMŠA)\nIzvajalci: Or Ettlinger\nProstor: Gal
 erija
END:VEVENT
BEGIN:VEVENT
SUMMARY:Architecture of Virtual Space (AVS)\, Predavanja (P)
DTSTART;TZID=Europe/Ljubljana:20250520T173000
DTEND;TZID=Europe/Ljubljana:20250520T190000
DTSTAMP:20260423T200829Z
UID:fa-AFLABS-URNIK:srecanje:2823-2025-05-20 17:30:00+02:00
DESCRIPTION:Predmet: Architecture of Virtual Space (AVS)\, Predavanja (P)\
 nLetniki: EMŠA - 5. letnik (EMŠA)\nIzvajalci: Or Ettlinger\nProstor: Gal
 erija
END:VEVENT
BEGIN:VEVENT
SUMMARY:Approaches to Creativity (ATC)\, Predavanja (P)
DTSTART;TZID=Europe/Ljubljana:20250429T173000
DTEND;TZID=Europe/Ljubljana:20250429T190000
DTSTAMP:20260423T200829Z
UID:fa-AFLABS-URNIK:srecanje:2902-2025-04-29 17:30:00+02:00
DESCRIPTION:Predmet: Approaches to Creativity (ATC)\, Predavanja (P)\nLetn
 iki: EMŠA - 5. letnik (EMŠA)\nIzvajalci: Or Ettlinger\nProstor: Galerija
END:VEVENT
BEGIN:VEVENT
SUMMARY:Approaches to Creativity (ATC)\, Predavanja (P)
DTSTART;TZID=Europe/Ljubljana:20250506T173000
DTEND;TZID=Europe/Ljubljana:20250506T190000
DTSTAMP:20260423T200829Z
UID:fa-AFLABS-URNIK:srecanje:2902-2025-05-06 17:30:00+02:00
DESCRIPTION:Predmet: Approaches to Creativity (ATC)\, Predavanja (P)\nLetn
 iki: EMŠA - 5. letnik (EMŠA)\nIzvajalci: Or Ettlinger\nProstor: Galerija
END:VEVENT
BEGIN:VEVENT
SUMMARY:Approaches to Creativity (ATC)\, Predavanja (P)
DTSTART;TZID=Europe/Ljubljana:20250513T173000
DTEND;TZID=Europe/Ljubljana:20250513T190000
DTSTAMP:20260423T200829Z
UID:fa-AFLABS-URNIK:srecanje:2902-2025-05-13 17:30:00+02:00
DESCRIPTION:Predmet: Approaches to Creativity (ATC)\, Predavanja (P)\nLetn
 iki: EMŠA - 5. letnik (EMŠA)\nIzvajalci: Or Ettlinger\nProstor: Galerija
END:VEVENT
BEGIN:VEVENT
SUMMARY:Approaches to Creativity (ATC)\, Predavanja (P)
DTSTART;TZID=Europe/Ljubljana:20250520T173000
DTEND;TZID=Europe/Ljubljana:20250520T190000
DTSTAMP:20260423T200829Z
UID:fa-AFLABS-URNIK:srecanje:2902-2025-05-20 17:30:00+02:00
DESCRIPTION:Predmet: Approaches to Creativity (ATC)\, Predavanja (P)\nLetn
 iki: EMŠA - 5. letnik (EMŠA)\nIzvajalci: Or Ettlinger\nProstor: Galerija
END:VEVENT
BEGIN:VEVENT
SUMMARY:Joint Design Studio (JDS)\, Vaje (V)
DTSTART;TZID=Europe/Ljubljana:20250429T090000
DTEND;TZID=Europe/Ljubljana:20250429T160000
DTSTAMP:20260423T200829Z
UID:fa-AFLABS-URNIK:srecanje:2838-2025-04-29 09:00:00+02:00
DESCRIPTION:Predmet: Joint Design Studio (JDS)\, Vaje (V)\nLetniki: \nIzva
 jalci: Or Ettlinger\, Tomaž Novljan\, Paul O. Robinson\, Tadeja Zupanči
 č\nProstor: Soba 33
END:VEVENT
BEGIN:VEVENT
SUMMARY:Joint Design Studio (JDS)\, Vaje (V)
DTSTART;TZID=Europe/Ljubljana:20250506T090000
DTEND;TZID=Europe/Ljubljana:20250506T160000
DTSTAMP:20260423T200829Z
UID:fa-AFLABS-URNIK:srecanje:2838-2025-05-06 09:00:00+02:00
DESCRIPTION:Predmet: Joint Design Studio (JDS)\, Vaje (V)\nLetniki: \nIzva
 jalci: Or Ettlinger\, Tomaž Novljan\, Paul O. Robinson\, Tadeja Zupanči
 č\nProstor: Soba 33
END:VEVENT
BEGIN:VEVENT
SUMMARY:Joint Design Studio (JDS)\, Vaje (V)
DTSTART;TZID=Europe/Ljubljana:20250513T090000
DTEND;TZID=Europe/Ljubljana:20250513T160000
DTSTAMP:20260423T200829Z
UID:fa-AFLABS-URNIK:srecanje:2838-2025-05-13 09:00:00+02:00
DESCRIPTION:Predmet: Joint Design Studio (JDS)\, Vaje (V)\nLetniki: \nIzva
 jalci: Or Ettlinger\, Tomaž Novljan\, Paul O. Robinson\, Tadeja Zupanči
 č\nProstor: Soba 33
END:VEVENT
BEGIN:VEVENT
SUMMARY:Joint Design Studio (JDS)\, Vaje (V)
DTSTART;TZID=Europe/Ljubljana:20250520T090000
DTEND;TZID=Europe/Ljubljana:20250520T160000
DTSTAMP:20260423T200829Z
UID:fa-AFLABS-URNIK:srecanje:2838-2025-05-20 09:00:00+02:00
DESCRIPTION:Predmet: Joint Design Studio (JDS)\, Vaje (V)\nLetniki: \nIzva
 jalci: Or Ettlinger\, Tomaž Novljan\, Paul O. Robinson\, Tadeja Zupanči
 č\nProstor: Soba 33
END:VEVENT
BEGIN:VEVENT
SUMMARY:Joint Design Studio (JDS)\, Vaje (V)
DTSTART;TZID=Europe/Ljubljana:20250509T090000
DTEND;TZID=Europe/Ljubljana:20250509T170000
DTSTAMP:20260423T200829Z
UID:fa-AFLABS-URNIK:srecanje:2839-2025-05-09 09:00:00+02:00
DESCRIPTION:Predmet: Joint Design Studio (JDS)\, Vaje (V)\nLetniki: \nIzva
 jalci: Or Ettlinger\, Tomaž Novljan\, Paul O. Robinson\, Tadeja Zupanči
 č\nProstor: Soba 33
END:VEVENT
BEGIN:VEVENT
SUMMARY:Joint Design Studio (JDS)\, Vaje (V)
DTSTART;TZID=Europe/Ljubljana:20250516T090000
DTEND;TZID=Europe/Ljubljana:20250516T170000
DTSTAMP:20260423T200829Z
UID:fa-AFLABS-URNIK:srecanje:2839-2025-05-16 09:00:00+02:00
DESCRIPTION:Predmet: Joint Design Studio (JDS)\, Vaje (V)\nLetniki: \nIzva
 jalci: Or Ettlinger\, Tomaž Novljan\, Paul O. Robinson\, Tadeja Zupanči
 č\nProstor: Soba 33
END:VEVENT
BEGIN:VEVENT
SUMMARY:Joint Design Studio (JDS)\, Vaje (V)
DTSTART;TZID=Europe/Ljubljana:20250523T090000
DTEND;TZID=Europe/Ljubljana:20250523T170000
DTSTAMP:20260423T200829Z
UID:fa-AFLABS-URNIK:srecanje:2839-2025-05-23 09:00:00+02:00
DESCRIPTION:Predmet: Joint Design Studio (JDS)\, Vaje (V)\nLetniki: \nIzva
 jalci: Or Ettlinger\, Tomaž Novljan\, Paul O. Robinson\, Tadeja Zupanči
 č\nProstor: Soba 33
END:VEVENT
END:VCALENDAR
